BEGIN:VCALENDAR
VERSION:2.0
PRODID:-//wp-events-plugin.com//7.2.3.1//EN
BEGIN:VEVENT
UID:8@mbaibassa.org
DTSTART;TZID=America/New_York:20260903T100000
DTEND;TZID=America/New_York:20260906T234500
DTSTAMP:20260411T083354Z
URL:https://www.mbaibassa.org/events/babamna-grand-congres-quebec-city-202
 6/
SUMMARY:BABAMNA Grand Congres - Quebec City 2026
DESCRIPTION:The Grand Cultural Congress of Quebec invites you to an excepti
 onal celebration of artistic diversity\, living traditions\, and the creat
 ivity that shapes our collective identity.
ATTACH;FMTTYPE=image/jpeg:https://www.mbaibassa.org/mbc/wp-content/uploads
 /2026/04/Quebec-city-2026-001.jpg
CATEGORIES:Festival
END:VEVENT
BEGIN:VTIMEZONE
TZID:America/New_York
X-LIC-LOCATION:America/New_York
BEGIN:DAYLIGHT
DTSTART:20260308T030000
TZOFFSETFROM:-0500
TZOFFSETTO:-0400
TZNAME:EDT
END:DAYLIGHT
END:VTIMEZONE
END:VCALENDAR