BEGIN:VCALENDAR
VERSION:2.0
PRODID:-//wp-events-plugin.com//7.2.3.1//EN
BEGIN:VEVENT
UID:7@mbaibassa.org
DTSTART;TZID=America/Los_Angeles:20260524T163000
DTEND;TZID=America/Los_Angeles:20260524T200000
DTSTAMP:20260411T080235Z
URL:https://www.mbaibassa.org/events/africa-day-san-jose/
SUMMARY:Africa Day - San Jose
DESCRIPTION:Celebrate African heritage in an outdoor park with a youth socc
 er showcase\, fun arts and storytelling hands-on activities for families\,
  traditional dance\, food\, vendor booths\, and live music from Kava Jah.
ATTACH;FMTTYPE=image/jpeg:https://www.mbaibassa.org/mbc/wp-content/uploads
 /2026/04/may-24-8x10-africa-day-San-jose.jpg
CATEGORIES:Festival
LOCATION:Levitt Pavilion\, 105 N 1st St\, San Jose\, CA\, 95116\, United St
 ates
X-APPLE-STRUCTURED-LOCATION;VALUE=URI;X-ADDRESS=105 N 1st St\, San Jose\, C
 A\, 95116\, United States;X-APPLE-RADIUS=100;X-TITLE=Levitt Pavilion:geo:0
 ,0
END:VEVENT
BEGIN:VTIMEZONE
TZID:America/Los_Angeles
X-LIC-LOCATION:America/Los_Angeles
BEGIN:DAYLIGHT
DTSTART:20260308T030000
TZOFFSETFROM:-0800
TZOFFSETTO:-0700
TZNAME:PDT
END:DAYLIGHT
END:VTIMEZONE
END:VCALENDAR