BEGIN:VCALENDAR
VERSION:2.0
PRODID:-//wp-events-plugin.com//7.2.3.1//EN
BEGIN:VEVENT
UID:5@mbaibassa.org
DTSTART;TZID=America/Los_Angeles:20260510T150000
DTEND;TZID=America/Los_Angeles:20260510T200000
DTSTAMP:20260411T081946Z
URL:https://www.mbaibassa.org/events/africa-day-sacramento/
SUMMARY:Africa Day - Sacramento
DESCRIPTION:Celebrate African heritage on a farm. Add soccer and cultural s
 howcases\, food\, live DJ music\, keynote address\, drum circles\, traditi
 onal African.
ATTACH;FMTTYPE=image/jpeg:https://www.mbaibassa.org/mbc/wp-content/uploads
 /2026/04/may-10-8x10-africa-day-sacramento.jpg
CATEGORIES:Festival
LOCATION:Estate Farms\, 6240 Excelsior Rd\, Sacramento\, CA\, 95829\, Unite
 d States
X-APPLE-STRUCTURED-LOCATION;VALUE=URI;X-ADDRESS=6240 Excelsior Rd\, Sacrame
 nto\, CA\, 95829\, United States;X-APPLE-RADIUS=100;X-TITLE=Estate Farms:g
 eo:0,0
END:VEVENT
BEGIN:VTIMEZONE
TZID:America/Los_Angeles
X-LIC-LOCATION:America/Los_Angeles
BEGIN:DAYLIGHT
DTSTART:20260308T030000
TZOFFSETFROM:-0800
TZOFFSETTO:-0700
TZNAME:PDT
END:DAYLIGHT
END:VTIMEZONE
END:VCALENDAR