BEGIN:VCALENDAR
VERSION:2.0
PRODID:-//wp-events-plugin.com//7.2.3.1//EN
BEGIN:VEVENT
UID:6@mbaibassa.org
DTSTART;TZID=America/Los_Angeles:20260423T160000
DTEND;TZID=America/Los_Angeles:20260423T201500
DTSTAMP:20260411T065440Z
URL:https://www.mbaibassa.org/events/africa-day-los-gatos/
SUMMARY:Africa Day - Los Gatos
DESCRIPTION:Celebrate African heritage in an indoor space honouring the cul
 tures\, history and contributions of African people across the world.
ATTACH;FMTTYPE=image/jpeg:https://www.mbaibassa.org/mbc/wp-content/uploads
 /2026/04/may-23-8x10-africa-day-los-gatos.jpg
CATEGORIES:Festival
LOCATION:JCC  Los Gatos\, 14855 Oka Rd\, Los Gatos\, CA\, 95032\, United St
 ates
X-APPLE-STRUCTURED-LOCATION;VALUE=URI;X-ADDRESS=14855 Oka Rd\, Los Gatos\, 
 CA\, 95032\, United States;X-APPLE-RADIUS=100;X-TITLE=JCC  Los Gatos:geo:0
 ,0
END:VEVENT
BEGIN:VTIMEZONE
TZID:America/Los_Angeles
X-LIC-LOCATION:America/Los_Angeles
BEGIN:DAYLIGHT
DTSTART:20260308T030000
TZOFFSETFROM:-0800
TZOFFSETTO:-0700
TZNAME:PDT
END:DAYLIGHT
END:VTIMEZONE
END:VCALENDAR